BEGIN:VCALENDAR
VERSION:2.0
PRODID:-//WNY Heroes - ECPv6.15.20//NONSGML v1.0//EN
CALSCALE:GREGORIAN
METHOD:PUBLISH
X-WR-CALNAME:WNY Heroes
X-ORIGINAL-URL:https://wnyheroes.org
X-WR-CALDESC:Events for WNY Heroes
REFRESH-INTERVAL;VALUE=DURATION:PT1H
X-Robots-Tag:noindex
X-PUBLISHED-TTL:PT1H
BEGIN:VTIMEZONE
TZID:America/New_York
BEGIN:DAYLIGHT
TZOFFSETFROM:-0500
TZOFFSETTO:-0400
TZNAME:EDT
DTSTART:20240310T070000
END:DAYLIGHT
BEGIN:STANDARD
TZOFFSETFROM:-0400
TZOFFSETTO:-0500
TZNAME:EST
DTSTART:20241103T060000
END:STANDARD
BEGIN:DAYLIGHT
TZOFFSETFROM:-0500
TZOFFSETTO:-0400
TZNAME:EDT
DTSTART:20250309T070000
END:DAYLIGHT
BEGIN:STANDARD
TZOFFSETFROM:-0400
TZOFFSETTO:-0500
TZNAME:EST
DTSTART:20251102T060000
END:STANDARD
BEGIN:DAYLIGHT
TZOFFSETFROM:-0500
TZOFFSETTO:-0400
TZNAME:EDT
DTSTART:20260308T070000
END:DAYLIGHT
BEGIN:STANDARD
TZOFFSETFROM:-0400
TZOFFSETTO:-0500
TZNAME:EST
DTSTART:20261101T060000
END:STANDARD
END:VTIMEZONE
BEGIN:VEVENT
DTSTART;TZID=America/New_York:20250529T000000
DTEND;TZID=America/New_York:20250529T235959
DTSTAMP:20260421T090954
CREATED:20250509T152957Z
LAST-MODIFIED:20250509T154054Z
UID:10005491-1748476800-1748563199@wnyheroes.org
SUMMARY:Heroes' Harvest
DESCRIPTION:Veteran Graden Project  \n\n\n\nJoin us for kicking off Planting Day \n\n\n\nFeel more grounded\, present & focused. Connect to the earth. See the results of your work. Learn how to prepare the food you grow & harvest.
URL:https://wnyheroes.org/event/heroes-harvest/
LOCATION:Wisdom Farm\, 10795 Miland Rd.\, Clarence Center\, New York\, 14032
ATTACH;FMTTYPE=image/jpeg:https://wnyheroes.org/wp-content/uploads/2025/05/heroes-harvest.jpeg
END:VEVENT
BEGIN:VEVENT
DTSTART;TZID=America/New_York:20250521T160000
DTEND;TZID=America/New_York:20250521T190000
DTSTAMP:20260421T090954
CREATED:20250509T152832Z
LAST-MODIFIED:20250509T152833Z
UID:10005493-1747843200-1747854000@wnyheroes.org
SUMMARY:Wellness Fair
DESCRIPTION:BUFFALO CAREGIVER SUPPORT PROGRAM & WNY HEROES WOMEN’S GROUP PROUDLY PRESENTS! \n\n\n\n\n\n\n\n\n\nTake time to recharge with us! Explore local wellness vendors\, discover helpful resources\, and connect with fellow Caregivers in a relaxing and supportive space. \n\n\n\nLocal vendors:  \n\n\n\n20 min Interactive CRP training sessions \n\n\n\nBOCES Cosmetology students  \n\n\n\nWomen’s Wellness Clinic   \n\n\n\nBuffalo Vet Center \n\n\n\nAdditional vendors\, activities & refreshments will be available.
URL:https://wnyheroes.org/event/wellness-fair/
LOCATION:WNY HEROES\, 1001 E. Delavan\, Buffalo\, New York\, 14215
ATTACH;FMTTYPE=image/png:https://wnyheroes.org/wp-content/uploads/2025/05/WELLNESS-FAIR-0521.png
END:VEVENT
BEGIN:VEVENT
DTSTART;TZID=America/New_York:20250518T100000
DTEND;TZID=America/New_York:20250518T130000
DTSTAMP:20260421T090954
CREATED:20250506T193538Z
LAST-MODIFIED:20250506T193540Z
UID:10005489-1747562400-1747573200@wnyheroes.org
SUMMARY:Kickball Event
DESCRIPTION:COMMUNITY- BUILDING ACTIVITY  \n\n\n\nUnified Kickball of all Abilities  \n\n\n\nLunch will be provided (Picnic Style)  \n\n\n\nIn the event of rain the event will be held at WNYHEROES 1001 E Delavan ave Suite 9\, Buffalo\, NY\, 14215
URL:https://wnyheroes.org/event/kickball-event/
LOCATION:Delaware Park
ATTACH;FMTTYPE=application/pdf:https://wnyheroes.org/wp-content/uploads/2025/05/KICKBALL-PDF.pdf
ORGANIZER;CN="WNY HEROES":MAILTO:EVENTS@WNYHEROES.ORG
END:VEVENT
BEGIN:VEVENT
DTSTART;TZID=America/New_York:20250516T110000
DTEND;TZID=America/New_York:20250516T140000
DTSTAMP:20260421T090954
CREATED:20250501T165849Z
LAST-MODIFIED:20250501T165850Z
UID:10005481-1747393200-1747404000@wnyheroes.org
SUMMARY:Veterans & Community Wellness Fair
DESCRIPTION:May is Mental Health AWARENESS Month! \n\n\n\nJoin is for wellness checks\, veteran resources\, caregiver resources\, and hair cuts \n\n\n\nSPONSORED By: JCC Jamestown Community College SUNY\, Joseph P. Dwyer Veterans; Peer Support Project\, DIL Inc.\, St. Bonaventure Veterans Services\, and  U.S Department of Veterans Affairs
URL:https://wnyheroes.org/event/veterans-community-wellness-fair/
LOCATION:JCC Olean Campus\, 260 N Union st.\, Olean\, New York\, 14760
ATTACH;FMTTYPE=image/png:https://wnyheroes.org/wp-content/uploads/2025/05/wellness-flyer.png
END:VEVENT
BEGIN:VEVENT
DTSTART;TZID=America/New_York:20250514T180000
DTEND;TZID=America/New_York:20250514T180000
DTSTAMP:20260421T090954
CREATED:20250429T195452Z
LAST-MODIFIED:20250429T195454Z
UID:10005474-1747245600-1747245600@wnyheroes.org
SUMMARY:WNY Heroes Bike Nights
DESCRIPTION:Voz Cycle City WNY’s Motorcycle Superstore Proud to announce WNY Heroes Bike Nights \n\n\n\nBike Nights are The Second Wednesday of Every Month (May – September) These are free concerts and they start at 6:00 pm \n\n\n\nWe have food and drinks available\, 50/50 raffle and vendors (we are still looking for vendors)All proceeds to go to WNY Heroes. Come and join us for the fun! \n\n\n\nBand Line-upMay 14: Smoking GunsJune 11: Side ThreeJuly 9: One Foot UpAugust 13: River DogsSeptember 10: More Heat
URL:https://wnyheroes.org/event/wny-heroes-bike-nights/2025-05-14/
LOCATION:3287 Niagara Falls Blvd.\, 3287 Niagara Falls Blvd.\, North Townawanda\, New York\, 14120\, United States
ATTACH;FMTTYPE=image/avif:https://wnyheroes.org/wp-content/uploads/2025/04/c89ed290-2528-11f0-b11e-0242ac120004.avif
END:VEVENT
BEGIN:VEVENT
DTSTART;TZID=America/New_York:20250514T000000
DTEND;TZID=America/New_York:20250831T235959
DTSTAMP:20260421T090954
CREATED:20250514T134747Z
LAST-MODIFIED:20250514T134748Z
UID:10005494-1747180800-1756684799@wnyheroes.org
SUMMARY:Dreams\, Purpose\, & Passion
DESCRIPTION:At DNP Presents\, our mission is to bring your Dream\, Purpose\, and Passion to life—in print! Whether your manuscript is ready to publish or still taking shape\, we’re here to guide you every step of the way. \n\n\n\n\n\n“Stories of Veterans” is a heartfelt anthology that delves into the lives of military veterans as they navigate the challenging transition from service to civilian life. Through a series of compelling personal narratives\, veterans from diverse military branches share their unique journeys\, offering an authentic and poignant look into the realities of life after the uniform. \n\n\n\nThe book explores themes of resilience\, sacrifice\, and perseverance\, shedding light on financial hardships\, marital struggles\, and the quest to find purpose in a civilian world. Alongside these deeply personal stories\, it provides practical insights and guidance for transitioning service members\, addressing crucial topics such as retirement planning\, benefits\, and accessing veteran support networks. \n\n\n\n“Stories of Veterans” also tackles the critical issues of mental health and career reinvention\, highlighting the challenges of adjusting to new roles and responsibilities while managing the emotional toll of military service. The narratives extend to the families of veterans\, illustrating the profound impact of military life on loved ones and the vital role of familial support in the healing and adjustment process. \n\n\n\nThis book serves as both a source of inspiration and a guide\, celebrating the indomitable spirit of veterans and their families while offering hope and practical tools for those embarking on similar journeys. \n\n\n\n\n\n\n\n\n\nUse the CQ code to purchase. A Portion of the proceeds go to WNY Heroes.
URL:https://wnyheroes.org/event/dreams-purpose-passion/
LOCATION:New York
ATTACH;FMTTYPE=image/png:https://wnyheroes.org/wp-content/uploads/2025/05/book-sale.png
END:VEVENT
BEGIN:VEVENT
DTSTART;TZID=America/New_York:20250513T100000
DTEND;TZID=America/New_York:20250513T140000
DTSTAMP:20260421T090954
CREATED:20250501T192302Z
LAST-MODIFIED:20250509T153628Z
UID:10005484-1747130400-1747144800@wnyheroes.org
SUMMARY:Journey with the Horse
DESCRIPTION:This is a unique workshop created for Veterans plus 1 ( the plus 1 can be a caregiver\, spouse\, partner\, or friend) which uses equine facilitated learning (EFL) to teach new skills in an the areas of mindfulness\, personal empowerment\, daily coping skills\, and emotional release.  \n\n\n\nThe take away has far reaching applications that are linked to increase success at work and home. We will also focus on tools to use in daily life to cope more effectively with environmental and emotional stress. No experience with horses is required and you will be working with horses on the ground (no riding) in a safe setting with experience horses- handlers and proper social distancing.  \n\n\n\nLunch will be provided. Please wear sturdy shoes and boots.  \n\n\n\nAll proper safety and sanitation procedures will be followed for the duration of the workshop\, along with prior to the start and after the ending of the workshop. \n\n\n\n\n\n\n\n\n\n\n\n\n\nGenerously Sponsored by The Chip Charitable Foundation.
URL:https://wnyheroes.org/event/journey-with-the-horse/
LOCATION:Wisdom Farm\, 10795 Miland Rd.\, Clarence Center\, New York\, 14032
ATTACH;FMTTYPE=image/jpeg:https://wnyheroes.org/wp-content/uploads/2025/05/journey-with-the-horses.jpeg
ORGANIZER;CN="Lynn Magistrale":MAILTO:lmagistrale@wnyheroes.org
END:VEVENT
BEGIN:VEVENT
DTSTART;TZID=America/New_York:20250510T110000
DTEND;TZID=America/New_York:20250510T150000
DTSTAMP:20260421T090954
CREATED:20250501T193029Z
LAST-MODIFIED:20250501T193030Z
UID:10005485-1746874800-1746889200@wnyheroes.org
SUMMARY:Free Comic Book Day Festival!
DESCRIPTION:Justice League of WNY\, Partnered with WNY Heroes INC. \n\n\n\nFree Comics; Face Painting; Zeke\, the Balloon Boy and More!! \n\n\n\n\n\n\n\n\n\n\n\n\n\nSponsored By: COMIXSENSE
URL:https://wnyheroes.org/event/free-comic-book-day-festival/
LOCATION:WNY Heroes\, 1001 E. Delavan\, Buffalo\, New York\, 14215
ATTACH;FMTTYPE=image/png:https://wnyheroes.org/wp-content/uploads/2025/05/comic-flyer.png
END:VEVENT
BEGIN:VEVENT
DTSTART;TZID=America/New_York:20250510T103000
DTEND;TZID=America/New_York:20250510T140000
DTSTAMP:20260421T090954
CREATED:20250501T195713Z
LAST-MODIFIED:20250501T195714Z
UID:10005486-1746873000-1746885600@wnyheroes.org
SUMMARY:First Annual Daemen Vet Expo
DESCRIPTION:This event is dedicated to connecting veterans\, active duty members\, reservists\, and their families with essential resources\, services\, and support crafted for their unique needs.  \n\n\n\nVeterans should bring a COPY OF THEIR DD214 and plan to visit these veteran service organizations and more..: \n\n\n\nBuffalo and Erie County Naval & Military park \n\n\n\nBuffalo VA Medical Center \n\n\n\nClear Path for Veterans \n\n\n\nCombat Veterans Motorcycle Association \n\n\n\nDog Tag New York \n\n\n\nHight Ground \n\n\n\nNY Helmets to Hardhat INC. \n\n\n\nNYS Dept of Veterans’ Sevices \n\n\n\nStop The 22 a Day  \n\n\n\nteam RWB Buffalo  \n\n\n\nVetCenter  \n\n\n\nVeterans Defense Program \n\n\n\nVeterans One Stop \n\n\n\nVFW National Home \n\n\n\nWNY Heroes \n\n\n\nWounded Warrior Project  \n\n\n\n\n\n\n\n\n\nThis is your day! Celebrate\, connect\, and discount the support and opportunities available exclusively for our military community. Scan the QR code to register!
URL:https://wnyheroes.org/event/first-annual-daemen-vet-expo/
LOCATION:Daemen University ( Yurtchuk Student Center)\, 4380 Main ST.\, Amherst\, New York\, 14226
ATTACH;FMTTYPE=image/png:https://wnyheroes.org/wp-content/uploads/2025/05/vet-exspo.png
END:VEVENT
END:VCALENDAR